BEGIN:VCALENDAR
VERSION:2.0
PRODID:-//Batten Disease Support &amp; Research Association - ECPv6.15.12.2//NONSGML v1.0//EN
CALSCALE:GREGORIAN
METHOD:PUBLISH
X-WR-CALNAME:Batten Disease Support &amp; Research Association
X-ORIGINAL-URL:https://bdsrafoundation.org
X-WR-CALDESC:Events for Batten Disease Support &amp; Research Association
REFRESH-INTERVAL;VALUE=DURATION:PT1H
X-Robots-Tag:noindex
X-PUBLISHED-TTL:PT1H
BEGIN:VTIMEZONE
TZID:America/New_York
BEGIN:DAYLIGHT
TZOFFSETFROM:-0500
TZOFFSETTO:-0400
TZNAME:EDT
DTSTART:20240310T070000
END:DAYLIGHT
BEGIN:STANDARD
TZOFFSETFROM:-0400
TZOFFSETTO:-0500
TZNAME:EST
DTSTART:20241103T060000
END:STANDARD
BEGIN:DAYLIGHT
TZOFFSETFROM:-0500
TZOFFSETTO:-0400
TZNAME:EDT
DTSTART:20250309T070000
END:DAYLIGHT
BEGIN:STANDARD
TZOFFSETFROM:-0400
TZOFFSETTO:-0500
TZNAME:EST
DTSTART:20251102T060000
END:STANDARD
BEGIN:DAYLIGHT
TZOFFSETFROM:-0500
TZOFFSETTO:-0400
TZNAME:EDT
DTSTART:20260308T070000
END:DAYLIGHT
BEGIN:STANDARD
TZOFFSETFROM:-0400
TZOFFSETTO:-0500
TZNAME:EST
DTSTART:20261101T060000
END:STANDARD
END:VTIMEZONE
BEGIN:VEVENT
DTSTART;VALUE=DATE:20250831
DTEND;VALUE=DATE:20250901
DTSTAMP:20260421T100556
CREATED:20250805T192606Z
LAST-MODIFIED:20250805T193002Z
UID:23720-1756598400-1756684799@bdsrafoundation.org
SUMMARY:Board of Directors Application Deadline
DESCRIPTION:Our Board of Directors makes a difference for the Batten community. Are you ready to make an impact?  \nApply to join the Board of Directors by August 31! Visit the application to see the full description and qualifications. \nCLICK HERE TO VIEW THE APPLICATION. 
URL:https://bdsrafoundation.org/event/board-of-directors-application-deadline/
END:VEVENT
END:VCALENDAR