BEGIN:VCALENDAR
VERSION:2.0
PRODID:-//Batten Disease Support &amp; Research Association - ECPv6.15.12.2//NONSGML v1.0//EN
CALSCALE:GREGORIAN
METHOD:PUBLISH
X-ORIGINAL-URL:https://bdsrafoundation.org
X-WR-CALDESC:Events for Batten Disease Support &amp; Research Association
REFRESH-INTERVAL;VALUE=DURATION:PT1H
X-Robots-Tag:noindex
X-PUBLISHED-TTL:PT1H
BEGIN:VTIMEZONE
TZID:America/New_York
BEGIN:DAYLIGHT
TZOFFSETFROM:-0500
TZOFFSETTO:-0400
TZNAME:EDT
DTSTART:20240310T070000
END:DAYLIGHT
BEGIN:STANDARD
TZOFFSETFROM:-0400
TZOFFSETTO:-0500
TZNAME:EST
DTSTART:20241103T060000
END:STANDARD
BEGIN:DAYLIGHT
TZOFFSETFROM:-0500
TZOFFSETTO:-0400
TZNAME:EDT
DTSTART:20250309T070000
END:DAYLIGHT
BEGIN:STANDARD
TZOFFSETFROM:-0400
TZOFFSETTO:-0500
TZNAME:EST
DTSTART:20251102T060000
END:STANDARD
BEGIN:DAYLIGHT
TZOFFSETFROM:-0500
TZOFFSETTO:-0400
TZNAME:EDT
DTSTART:20260308T070000
END:DAYLIGHT
BEGIN:STANDARD
TZOFFSETFROM:-0400
TZOFFSETTO:-0500
TZNAME:EST
DTSTART:20261101T060000
END:STANDARD
END:VTIMEZONE
BEGIN:VEVENT
DTSTART;TZID=America/New_York:20251015T180000
DTEND;TZID=America/New_York:20251015T190000
DTSTAMP:20260421T070119
CREATED:20250926T205504Z
LAST-MODIFIED:20250926T210052Z
UID:23927-1760551200-1760554800@bdsrafoundation.org
SUMMARY:Ask-An-Expert: Understanding ABLE Saving Plans
DESCRIPTION:ASK-AN-EXPERT RETURNS! \nMark your calendars for Wednesday\, October 15\, at 6 PM EDT\, for the next virtual Ask-An-Expert\, featuring Stacy Pfeifer\, Director of Enable Savings Plan. Stacy has been with the Nebraska State Treasurer’s Office for 13 years and the Director of Enable for 3 ½ years. Stacy educates individuals about Enable accounts through presentations and resource fairs. \nClick here to learn more about Stacy and register. 
URL:https://bdsrafoundation.org/event/ask-an-expert-understanding-able-saving-plans/
LOCATION:Zoom
CATEGORIES:Ask-An-Expert
END:VEVENT
END:VCALENDAR