BEGIN:VCALENDAR
VERSION:2.0
PRODID:-//Batten Disease Support &amp; Research Association - ECPv6.15.12.2//NONSGML v1.0//EN
CALSCALE:GREGORIAN
METHOD:PUBLISH
X-WR-CALNAME:Batten Disease Support &amp; Research Association
X-ORIGINAL-URL:https://bdsrafoundation.org
X-WR-CALDESC:Events for Batten Disease Support &amp; Research Association
REFRESH-INTERVAL;VALUE=DURATION:PT1H
X-Robots-Tag:noindex
X-PUBLISHED-TTL:PT1H
BEGIN:VTIMEZONE
TZID:America/New_York
BEGIN:DAYLIGHT
TZOFFSETFROM:-0500
TZOFFSETTO:-0400
TZNAME:EDT
DTSTART:20240310T070000
END:DAYLIGHT
BEGIN:STANDARD
TZOFFSETFROM:-0400
TZOFFSETTO:-0500
TZNAME:EST
DTSTART:20241103T060000
END:STANDARD
BEGIN:DAYLIGHT
TZOFFSETFROM:-0500
TZOFFSETTO:-0400
TZNAME:EDT
DTSTART:20250309T070000
END:DAYLIGHT
BEGIN:STANDARD
TZOFFSETFROM:-0400
TZOFFSETTO:-0500
TZNAME:EST
DTSTART:20251102T060000
END:STANDARD
BEGIN:DAYLIGHT
TZOFFSETFROM:-0500
TZOFFSETTO:-0400
TZNAME:EDT
DTSTART:20260308T070000
END:DAYLIGHT
BEGIN:STANDARD
TZOFFSETFROM:-0400
TZOFFSETTO:-0500
TZNAME:EST
DTSTART:20261101T060000
END:STANDARD
END:VTIMEZONE
BEGIN:VEVENT
DTSTART;TZID=America/New_York:20251201T200000
DTEND;TZID=America/New_York:20251201T210000
DTSTAMP:20260421T041417
CREATED:20251113T205426Z
LAST-MODIFIED:20251201T135457Z
UID:24034-1764619200-1764622800@bdsrafoundation.org
SUMMARY:Ask-An-Expert: Navigating Joy and Sadness During the Holidays (TIME CHANGE)
DESCRIPTION:TIME CHANGE: This session will now begin at 8:00 PM EST on Monday\, December 1. \n \nWho’s Invited: Families caring for children with Batten disease and bereaved families \nJoin Jamie Freedlund for a gentle conversation about finding balance between joy and sadness during the holiday season. Together\, we’ll explore ways to honor emotions\, adjust traditions\, and embrace connection in whatever form the holidays take. You will receive the Zoom link to join this session via email\, along with reminders for the event\, after you register. \nClick here to learn more and register. 
URL:https://bdsrafoundation.org/event/batten-disease-expert-navigating-joy/
LOCATION:Zoom
CATEGORIES:Ask-An-Expert
END:VEVENT
END:VCALENDAR