BEGIN:VCALENDAR
VERSION:2.0
PRODID:-//Batten Disease Support &amp; Research Association - ECPv6.15.12.2//NONSGML v1.0//EN
CALSCALE:GREGORIAN
METHOD:PUBLISH
X-ORIGINAL-URL:https://bdsrafoundation.org
X-WR-CALDESC:Events for Batten Disease Support &amp; Research Association
REFRESH-INTERVAL;VALUE=DURATION:PT1H
X-Robots-Tag:noindex
X-PUBLISHED-TTL:PT1H
BEGIN:VTIMEZONE
TZID:America/New_York
BEGIN:DAYLIGHT
TZOFFSETFROM:-0500
TZOFFSETTO:-0400
TZNAME:EDT
DTSTART:20240310T070000
END:DAYLIGHT
BEGIN:STANDARD
TZOFFSETFROM:-0400
TZOFFSETTO:-0500
TZNAME:EST
DTSTART:20241103T060000
END:STANDARD
BEGIN:DAYLIGHT
TZOFFSETFROM:-0500
TZOFFSETTO:-0400
TZNAME:EDT
DTSTART:20250309T070000
END:DAYLIGHT
BEGIN:STANDARD
TZOFFSETFROM:-0400
TZOFFSETTO:-0500
TZNAME:EST
DTSTART:20251102T060000
END:STANDARD
BEGIN:DAYLIGHT
TZOFFSETFROM:-0500
TZOFFSETTO:-0400
TZNAME:EDT
DTSTART:20260308T070000
END:DAYLIGHT
BEGIN:STANDARD
TZOFFSETFROM:-0400
TZOFFSETTO:-0500
TZNAME:EST
DTSTART:20261101T060000
END:STANDARD
END:VTIMEZONE
BEGIN:VEVENT
DTSTART;TZID=America/New_York:20251209T190000
DTEND;TZID=America/New_York:20251209T200000
DTSTAMP:20260421T041757
CREATED:20251027T190251Z
LAST-MODIFIED:20251118T212209Z
UID:23982-1765306800-1765310400@bdsrafoundation.org
SUMMARY:Ask-An-Expert: NCL Congress and BDSRA Australia Conference Updates (RESCHEDULED)
DESCRIPTION:UPDATE (11/18/2025): This event has been rescheduled for Tuesday\, December 9\, at 7 PM EST. If you’ve already registered\, the Zoom link you’ve received in your registration confirmation email and email reminders is still the correct link to join the session. \n \nLet’s dive into some research and clinical updates! \nAfter attending the 19th International Congress on Neuronal Ceroid Lipofuscinosis (NCL) and BDSRA Australia’s Family Conference\, BDSRA Head of Research & Medical Affairs\, Ineka Whiteman\, PhD\, and Jonathan Cooper\, PhD\, of Washington University in St. Louis\, will recap the events\, share updates\, and answer your questions.  \nClick here to learn more and register. 
URL:https://bdsrafoundation.org/event/ask-an-expert-ncl-congress-and-bdsra-australia-conference-updates/
LOCATION:Zoom
CATEGORIES:Ask-An-Expert
END:VEVENT
END:VCALENDAR