BEGIN:VCALENDAR
VERSION:2.0
PRODID:-//Batten Disease Support &amp; Research Association - ECPv6.15.12.2//NONSGML v1.0//EN
CALSCALE:GREGORIAN
METHOD:PUBLISH
X-WR-CALNAME:Batten Disease Support &amp; Research Association
X-ORIGINAL-URL:https://bdsrafoundation.org
X-WR-CALDESC:Events for Batten Disease Support &amp; Research Association
REFRESH-INTERVAL;VALUE=DURATION:PT1H
X-Robots-Tag:noindex
X-PUBLISHED-TTL:PT1H
BEGIN:VTIMEZONE
TZID:America/New_York
BEGIN:DAYLIGHT
TZOFFSETFROM:-0500
TZOFFSETTO:-0400
TZNAME:EDT
DTSTART:20210314T070000
END:DAYLIGHT
BEGIN:STANDARD
TZOFFSETFROM:-0400
TZOFFSETTO:-0500
TZNAME:EST
DTSTART:20211107T060000
END:STANDARD
BEGIN:DAYLIGHT
TZOFFSETFROM:-0500
TZOFFSETTO:-0400
TZNAME:EDT
DTSTART:20220313T070000
END:DAYLIGHT
BEGIN:STANDARD
TZOFFSETFROM:-0400
TZOFFSETTO:-0500
TZNAME:EST
DTSTART:20221106T060000
END:STANDARD
BEGIN:DAYLIGHT
TZOFFSETFROM:-0500
TZOFFSETTO:-0400
TZNAME:EDT
DTSTART:20230312T070000
END:DAYLIGHT
BEGIN:STANDARD
TZOFFSETFROM:-0400
TZOFFSETTO:-0500
TZNAME:EST
DTSTART:20231105T060000
END:STANDARD
BEGIN:DAYLIGHT
TZOFFSETFROM:-0500
TZOFFSETTO:-0400
TZNAME:EDT
DTSTART:20240310T070000
END:DAYLIGHT
BEGIN:STANDARD
TZOFFSETFROM:-0400
TZOFFSETTO:-0500
TZNAME:EST
DTSTART:20241103T060000
END:STANDARD
BEGIN:DAYLIGHT
TZOFFSETFROM:-0500
TZOFFSETTO:-0400
TZNAME:EDT
DTSTART:20250309T070000
END:DAYLIGHT
BEGIN:STANDARD
TZOFFSETFROM:-0400
TZOFFSETTO:-0500
TZNAME:EST
DTSTART:20251102T060000
END:STANDARD
END:VTIMEZONE
BEGIN:VTIMEZONE
TZID:America/Chicago
BEGIN:DAYLIGHT
TZOFFSETFROM:-0600
TZOFFSETTO:-0500
TZNAME:CDT
DTSTART:20220313T080000
END:DAYLIGHT
BEGIN:STANDARD
TZOFFSETFROM:-0500
TZOFFSETTO:-0600
TZNAME:CST
DTSTART:20221106T070000
END:STANDARD
BEGIN:DAYLIGHT
TZOFFSETFROM:-0600
TZOFFSETTO:-0500
TZNAME:CDT
DTSTART:20230312T080000
END:DAYLIGHT
BEGIN:STANDARD
TZOFFSETFROM:-0500
TZOFFSETTO:-0600
TZNAME:CST
DTSTART:20231105T070000
END:STANDARD
BEGIN:DAYLIGHT
TZOFFSETFROM:-0600
TZOFFSETTO:-0500
TZNAME:CDT
DTSTART:20240310T080000
END:DAYLIGHT
BEGIN:STANDARD
TZOFFSETFROM:-0500
TZOFFSETTO:-0600
TZNAME:CST
DTSTART:20241103T070000
END:STANDARD
END:VTIMEZONE
BEGIN:VTIMEZONE
TZID:UTC
BEGIN:STANDARD
TZOFFSETFROM:+0000
TZOFFSETTO:+0000
TZNAME:UTC
DTSTART:20210101T000000
END:STANDARD
END:VTIMEZONE
BEGIN:VTIMEZONE
TZID:America/Los_Angeles
BEGIN:DAYLIGHT
TZOFFSETFROM:-0800
TZOFFSETTO:-0700
TZNAME:PDT
DTSTART:20210314T100000
END:DAYLIGHT
BEGIN:STANDARD
TZOFFSETFROM:-0700
TZOFFSETTO:-0800
TZNAME:PST
DTSTART:20211107T090000
END:STANDARD
BEGIN:DAYLIGHT
TZOFFSETFROM:-0800
TZOFFSETTO:-0700
TZNAME:PDT
DTSTART:20220313T100000
END:DAYLIGHT
BEGIN:STANDARD
TZOFFSETFROM:-0700
TZOFFSETTO:-0800
TZNAME:PST
DTSTART:20221106T090000
END:STANDARD
BEGIN:DAYLIGHT
TZOFFSETFROM:-0800
TZOFFSETTO:-0700
TZNAME:PDT
DTSTART:20230312T100000
END:DAYLIGHT
BEGIN:STANDARD
TZOFFSETFROM:-0700
TZOFFSETTO:-0800
TZNAME:PST
DTSTART:20231105T090000
END:STANDARD
END:VTIMEZONE
BEGIN:VTIMEZONE
TZID:America/Denver
BEGIN:DAYLIGHT
TZOFFSETFROM:-0700
TZOFFSETTO:-0600
TZNAME:MDT
DTSTART:20210314T090000
END:DAYLIGHT
BEGIN:STANDARD
TZOFFSETFROM:-0600
TZOFFSETTO:-0700
TZNAME:MST
DTSTART:20211107T080000
END:STANDARD
BEGIN:DAYLIGHT
TZOFFSETFROM:-0700
TZOFFSETTO:-0600
TZNAME:MDT
DTSTART:20220313T090000
END:DAYLIGHT
BEGIN:STANDARD
TZOFFSETFROM:-0600
TZOFFSETTO:-0700
TZNAME:MST
DTSTART:20221106T080000
END:STANDARD
BEGIN:DAYLIGHT
TZOFFSETFROM:-0700
TZOFFSETTO:-0600
TZNAME:MDT
DTSTART:20230312T090000
END:DAYLIGHT
BEGIN:STANDARD
TZOFFSETFROM:-0600
TZOFFSETTO:-0700
TZNAME:MST
DTSTART:20231105T080000
END:STANDARD
END:VTIMEZONE
BEGIN:VEVENT
DTSTART;VALUE=DATE:20240115
DTEND;VALUE=DATE:20240116
DTSTAMP:20260421T164109
CREATED:20240111T221016Z
LAST-MODIFIED:20240111T221016Z
UID:18332-1705276800-1705363199@bdsrafoundation.org
SUMMARY:Martin Luther King Jr. Day (Office Closed)
DESCRIPTION:
URL:https://bdsrafoundation.org/event/martin-luther-king-jr-day-office-closed/
END:VEVENT
BEGIN:VEVENT
DTSTART;TZID=America/New_York:20231217T190000
DTEND;TZID=America/New_York:20231217T200000
DTSTAMP:20260421T164109
CREATED:20231208T230500Z
LAST-MODIFIED:20231208T230500Z
UID:18314-1702839600-1702843200@bdsrafoundation.org
SUMMARY:Holiday Grief Chat
DESCRIPTION:Join host and bereaved Batten mother Peggy DiCapua for BDSRA’s Holiday Grief Chat on Sunday\, December 17\, at 7:00 PM EST. \nThe holidays can be a challenging time in the face of the loss of a loved one. This is an opportunity for loved ones to gather\, share\, and support one another. We understand that each stage of this journey is different\, and we are here for you. \nBDSRA extends its love and support to those bereaved family members this holiday season. \nClick here to register. 
URL:https://bdsrafoundation.org/event/holiday-grief-chat-2/
CATEGORIES:Grief Chat
END:VEVENT
BEGIN:VEVENT
DTSTART;TZID=America/New_York:20231213T180000
DTEND;TZID=America/New_York:20231213T190000
DTSTAMP:20260421T164109
CREATED:20231202T033911Z
LAST-MODIFIED:20231202T033911Z
UID:18307-1702490400-1702494000@bdsrafoundation.org
SUMMARY:2023 Research in Review Webinar
DESCRIPTION:Mark your calendars for Wednesday\, Dec. 13 at 6 p.m. EST (Thursday\, Dec. 14\, 2023\, at 10 AM AEDT\, Sydney/Melbourne) for a 2023 Research in Review webinar hosted by Dr. Ineka Whiteman\, joined by Dr. David Pearce\, Dr. Jonathan Cooper\, Dr. Kourtney Santucci\, and Dr. Tony Cook. \nClick here to register for the event.
URL:https://bdsrafoundation.org/event/2023-research-in-review-webinar/
LOCATION:Zoom
CATEGORIES:Ask-An-Expert
END:VEVENT
BEGIN:VEVENT
DTSTART;VALUE=DATE:20231203
DTEND;VALUE=DATE:20231204
DTSTAMP:20260421T164109
CREATED:20231202T032715Z
LAST-MODIFIED:20231202T033949Z
UID:18302-1701561600-1701647999@bdsrafoundation.org
SUMMARY:Board of Directors Meeting
DESCRIPTION:The BDSRA Foundation Board of Directors will meet virtually on Sunday\, December 3\, 2023\, at 4 p.m. EST. The meeting agenda is below.
URL:https://bdsrafoundation.org/event/board-of-directors-meeting/
LOCATION:Zoom
END:VEVENT
BEGIN:VEVENT
DTSTART;TZID=America/New_York:20231130T180000
DTEND;TZID=America/New_York:20231130T190000
DTSTAMP:20260421T164109
CREATED:20231122T100037Z
LAST-MODIFIED:20231121T222508Z
UID:18264-1701367200-1701370800@bdsrafoundation.org
SUMMARY:REGENXBIO Webinar
DESCRIPTION:Have questions on the latest news concerning REGENXBIO and its halted gene therapy programs for CLN2 Batten disease? Join us for a webinar on Thursday\, November 30\, at 6 p.m. EST. \nThis webinar will be hosted by BDSRA Head of Research & Medical Affairs Dr. Ineka Whiteman\, who’ll be joined by BDSRA board members Dr. David Pearce and Dr. Fernanda Leal-Pardinas. Dr. Whiteman will provide the latest news on REGENXBIO’s Batten disease programs\, followed by a Q&A. \nThose who wish to attend MUST register. Register before the webinar’s start time on Nov. 30. \nClick here to register.
URL:https://bdsrafoundation.org/event/regenxbio-webinar/
LOCATION:Zoom
CATEGORIES:Ask-An-Expert
END:VEVENT
BEGIN:VEVENT
DTSTART;TZID=America/New_York:20231024T180000
DTEND;TZID=America/New_York:20231024T190000
DTSTAMP:20260421T164109
CREATED:20231002T142042Z
LAST-MODIFIED:20231019T130052Z
UID:18110-1698170400-1698174000@bdsrafoundation.org
SUMMARY:2023 Boo Bash
DESCRIPTION:Grab your costumes and join us for a frightfully FUN time at the 2023 Boo Bash taking place on Tuesday\, October 24 at 6 PM EDT via Zoom! \nThe deadline to order party kits has passed. You may purchase the supplies by visiting clicking the links below. \n“How to Catch a Witch” Book \nBoo Bash Craft \nA zoom link will be sent to the email address you use to register\, along with instructions on how to join in the SPOOK-tacular fun. Families are welcome to request a kit for each child who will be participating! \nClick here to register!
URL:https://bdsrafoundation.org/event/2023-boo-bash/
LOCATION:Zoom
CATEGORIES:Holidays,Seasonal Events
END:VEVENT
BEGIN:VEVENT
DTSTART;TZID=America/New_York:20231002T190000
DTEND;TZID=America/New_York:20231002T200000
DTSTAMP:20260421T164109
CREATED:20230918T201651Z
LAST-MODIFIED:20230918T201651Z
UID:18063-1696273200-1696276800@bdsrafoundation.org
SUMMARY:Fall Grief Chat
DESCRIPTION:Join the Batten community for BDSRA’s Fall Grief Chat on October 2 at 7 p.m. EDT. Three sessions lead by community members will be offered — one each for Bereaved SIBs (led by SIBs leader Jeni Montavon)\, active parents and caregivers (led by Dr. Joseph Vigil)\, and bereaved parents and caregivers as part of the Life Goes On program (led by bereaved parent Peggy DiCapua). \nPlease select a ticket for the session that best fits your needs. Please register individually. Once you register\, you will receive an email confirmation and a Zoom link for the session you chose. \nClick here to register.
URL:https://bdsrafoundation.org/event/fall-grief-chat-october-2023/
LOCATION:Zoom
CATEGORIES:Grief Chat
END:VEVENT
BEGIN:VEVENT
DTSTART;TZID=America/New_York:20230823T180000
DTEND;TZID=America/New_York:20230823T190000
DTSTAMP:20260421T164109
CREATED:20230809T184336Z
LAST-MODIFIED:20230818T130605Z
UID:17920-1692813600-1692817200@bdsrafoundation.org
SUMMARY:Dog Days of Summer Party
DESCRIPTION:The summer days are hot\, but hanging out with your BDSRA pack is so cool! Join us for a howling good time during the Dog Days of Summer Party Wednesday\, August 23rd at 6:00 PM EST.\n\nThe deadline to order party kits has passed. You may still register to attend the party. Click here if you wish to purchase the book that’ll be read during the party yourself.  \nA zoom link will be sent to the email address you use to register\, along with instructions on how to join in the fun. Families are welcome to request a kit for each child who will be participating! \nClick here to register!
URL:https://bdsrafoundation.org/event/dog-days-of-summer-party/
LOCATION:Zoom
CATEGORIES:Seasonal Events
END:VEVENT
BEGIN:VEVENT
DTSTART;VALUE=DATE:20230714
DTEND;VALUE=DATE:20230717
DTSTAMP:20260421T164109
CREATED:20230428T194709Z
LAST-MODIFIED:20230428T200732Z
UID:16313-1689292800-1689551999@bdsrafoundation.org
SUMMARY:Annual Family Conference | Denton\, TX
DESCRIPTION:Visit the Family Conference Home Page
URL:https://bdsrafoundation.org/event/annual-family-conference-denton-tx/
END:VEVENT
BEGIN:VEVENT
DTSTART;VALUE=DATE:20230609
DTEND;VALUE=DATE:20230612
DTSTAMP:20260421T164109
CREATED:20230420T155133Z
LAST-MODIFIED:20230610T183018Z
UID:16227-1686268800-1686527999@bdsrafoundation.org
SUMMARY:International Batten Disease Awareness Day/Virtual 5K
DESCRIPTION:Our goal is to honor and support those affected by Batten disease and to raise awareness and funds so BDSRA can continue to advocate for all CLN types. \nUPDATE: Donations will be accepted through Sunday\, June 11th. \nAbout this event: Join us as we celebrate families around the world and raise awareness and funds! BDSRA is hosting the 2023 International Batten Disease Awareness Day Virtual 5K on Friday\, June 9th\, 2023. \nSIGN UP ON THE OFFICIAL REGISTRATION PAGE HERE \nWhat exactly IS a Virtual 5K?: It is just like any other 5K\, except there is no official race location. The virtual part of this means no traveling and no early start times! It also means you get to choose where\, with whom\, and even how you want to complete the 5K. This 5K can be done at any time leading up to June 9th. It can even be done in increments\, keep track of your distance until you hit the 5K. \nHow to participate to raise funds and awareness: This event is open to individuals of all ages and abilities. Once you register\, either as an individual or as part of a team\, the focus then shifts to raising funds. Set a personal/team fundraising goal and encourage your family\, friends\, community\, etc. to donate to your fundraisers. BDSRA set a $10\,000 goal this year. The proceeds you raise towards that goal help BDSRA build and maintain staff who’ll provide compassionate support and advocacy for all types of Batten disease. \n \nDuring International Batten Disease Awareness Day we ask participants to post pictures of themselves on their 5K route. Tag BDSRA in your posts and use the hashtag #BattenDay2023. By using #BattenDay2023 and tagging BDSRA on your social media posts\, we will be able to keep up with the fun. \nOrdering T-Shirts: Pictured below are this year’s T-shirts. \n                            Front                                                 Back \n   \nUPDATE: The T-shirt order deadline has passed. \nRacing Bibs: Who are you running for in this virtual 5K? Click the button below to download this year’s racing bib and write who you’re dedicating your virtual walk/run for. Share on social media\, use the hashtag #BattenDay2023\, and tag BDSRA to have your post shared! \nClick here to download your racing bib!
URL:https://bdsrafoundation.org/event/international-batten-disease-awareness-day-virtual-5k-2023/
CATEGORIES:Advocacy Event,Seasonal Events
END:VEVENT
BEGIN:VEVENT
DTSTART;TZID=America/New_York:20230423T170000
DTEND;TZID=America/New_York:20230423T190000
DTSTAMP:20260421T164109
CREATED:20230419T205232Z
LAST-MODIFIED:20230419T205232Z
UID:16205-1682269200-1682276400@bdsrafoundation.org
SUMMARY:BDSRA Board of Directors Quarterly Meeting
DESCRIPTION:BDSRA’s Quarterly Board Meeting will take place Sunday\, April 23rd from 5-7 p.m. EST via Zoom. \nTake a look at the meeting agenda below.
URL:https://bdsrafoundation.org/event/bdsra-board-of-directors-quarterly-meeting-april-2023/
END:VEVENT
BEGIN:VEVENT
DTSTART;TZID=America/New_York:20230215T180000
DTEND;TZID=America/New_York:20230215T190000
DTSTAMP:20260421T164109
CREATED:20230120T203418Z
LAST-MODIFIED:20230209T160649Z
UID:15848-1676484000-1676487600@bdsrafoundation.org
SUMMARY:BDSRA Virtual Family Valentine's Day Party
DESCRIPTION:Love is in the air! Join us for the BDSRA Virtual Family Valentine’s Day Party on Wednesday\, February 15th at 6 p.m. EST. \nThe deadline for reserving party kits has passed\, but families can still register to attend the event and purchase the book that’ll be read during the party (the link for the book is on the registration page). \nClick here to register!
URL:https://bdsrafoundation.org/event/bdsra-virtual-valentines-day-party-2023/
END:VEVENT
BEGIN:VEVENT
DTSTART;TZID=America/Chicago:20230121T090000
DTEND;TZID=America/Chicago:20230121T170000
DTSTAMP:20260421T164109
CREATED:20230120T224740Z
LAST-MODIFIED:20230120T224814Z
UID:15853-1674291600-1674320400@bdsrafoundation.org
SUMMARY:BDSRA Board of Directors Quarterly Meeting
DESCRIPTION:BDSRA’s Quarterly Board Meeting will take place Saturday\, January 21st from 9 a.m. to 5 p.m. CST in Chicago. Take a look at the meeting agenda by clicking the link below. \nClick here to view the Board Meeting Agenda. 
URL:https://bdsrafoundation.org/event/bdsra-board-of-directors-quarterly-meeting-january-2023/
END:VEVENT
BEGIN:VEVENT
DTSTART;VALUE=DATE:20230116
DTEND;VALUE=DATE:20230117
DTSTAMP:20260421T164109
CREATED:20230110T193613Z
LAST-MODIFIED:20230110T200438Z
UID:15830-1673827200-1673913599@bdsrafoundation.org
SUMMARY:Martin Luther King Jr. Day (Office Closed)
DESCRIPTION:The BDSRA Foundation office will be closed on Monday\, January 16th in observance of Martin Luther King Jr. Day.
URL:https://bdsrafoundation.org/event/martin-luther-king-jr-day-2023-office-closed/
CATEGORIES:Holidays
END:VEVENT
BEGIN:VEVENT
DTSTART;TZID=UTC:20221214T180000
DTEND;TZID=UTC:20221214T190000
DTSTAMP:20260421T164109
CREATED:20221205T175510Z
LAST-MODIFIED:20221205T234042Z
UID:15746-1671040800-1671044400@bdsrafoundation.org
SUMMARY:Holiday Grief Chat
DESCRIPTION:BDSRA Foundation will host a Holiday Grief Chat on Wednesday\, December 14th at 6:00 p.m. EST.  BDSRA knows the holidays can be a difficult time for grieving individuals and families. This is an opportunity for loved ones to gather\, share and support one another. Register by clicking the link below and join the event with the zoom link that will be sent via email following registration. \nClick here to register.
URL:https://bdsrafoundation.org/event/holiday-grief-chat/
CATEGORIES:Grief Chat
END:VEVENT
BEGIN:VEVENT
DTSTART;TZID=UTC:20221025T180000
DTEND;TZID=UTC:20221025T190000
DTSTAMP:20260421T164109
CREATED:20220830T131904Z
LAST-MODIFIED:20221004T164629Z
UID:15528-1666720800-1666724400@bdsrafoundation.org
SUMMARY:3rd Annual BDSRA Boo Bash
DESCRIPTION:Autumn leaves are falling which means Halloween is calling! Join us for the 3rd Annual BDSRA Boo Bash taking place on October 25th at 6 p.m. EST! Prepare for an evening filled with tricks\, treats\, activities\, and a story! The deadline for activity boxes (limited to U.S. families only) is Tuesday\, October 11th.\n \nClick the link below to register and join the event on October 25th with the zoom link sent after registration. \nClick here to register!
URL:https://bdsrafoundation.org/event/3rd-annual-bdsra-boo-bash/
END:VEVENT
BEGIN:VEVENT
DTSTART;TZID=UTC:20221004T190000
DTEND;TZID=UTC:20221004T200000
DTSTAMP:20260421T164109
CREATED:20220830T130431Z
LAST-MODIFIED:20220912T154648Z
UID:15524-1664910000-1664913600@bdsrafoundation.org
SUMMARY:Peer Support Group Leader Training
DESCRIPTION:Join us for BDSRA Peer Support Group Leader Training on Tuesday\, October 4th at 7 p.m. EST. This session is open to anyone interested in helping others share their stories\, supporting them during their Batten journeys\, and leading support groups for the Batten community. \nClick the link below to register and join the session on October 4th with the zoom link sent after registration. \nClick here to register!
URL:https://bdsrafoundation.org/event/peer-support-group-leader-training/
END:VEVENT
BEGIN:VEVENT
DTSTART;TZID=America/Los_Angeles:20220924T090000
DTEND;TZID=America/Los_Angeles:20220924T113000
DTSTAMP:20260421T164109
CREATED:20220909T192401Z
LAST-MODIFIED:20220912T153854Z
UID:15552-1664010000-1664019000@bdsrafoundation.org
SUMMARY:Bike For Batten 2022 (Colville\, WA)
DESCRIPTION:Registration for the 2nd Annual Bike for Batten fundraiser is open! \nThis fundraiser\, organized by Bekah Murphy\, a CLN2 Batten aunt\, features bike rides in Nampa\, Idaho on Saturday\, September 17th and Colville\, Washington on Saturday\, September 24th. \nClick here to read Bekah’s story and register!
URL:https://bdsrafoundation.org/event/bike-for-batten-2022-colville-wa/
END:VEVENT
BEGIN:VEVENT
DTSTART;TZID=UTC:20220918T190000
DTEND;TZID=UTC:20220918T200000
DTSTAMP:20260421T164109
CREATED:20220909T185318Z
LAST-MODIFIED:20220912T154101Z
UID:15545-1663527600-1663531200@bdsrafoundation.org
SUMMARY:Advocacy Committee Meeting
DESCRIPTION:Our Advocacy Committee invites you to discuss local and federal advocacy efforts\, Newborn Screening\, Rare Disease Week\, how to share your story\, and more! \nVirtual meetings will be held on the third Sunday of each odd month at 7 p.m. ET. The first meeting will be held on Sunday\, September 18th! \nPlease email info@bdsrafoundation.org to get started!
URL:https://bdsrafoundation.org/event/advocacy-committee-meeting/
CATEGORIES:Advocacy Event
END:VEVENT
BEGIN:VEVENT
DTSTART;TZID=America/Denver:20220917T090000
DTEND;TZID=America/Denver:20220917T120000
DTSTAMP:20260421T164109
CREATED:20220909T191616Z
LAST-MODIFIED:20220909T192245Z
UID:15548-1663405200-1663416000@bdsrafoundation.org
SUMMARY:Bike For Batten 2022 (Nampa\, ID)
DESCRIPTION:Registration for the 2nd Annual Bike for Batten fundraiser is open! \nThis fundraiser\, organized by Bekah Murphy\, a CLN2 Batten aunt\, features bike rides in Nampa\, Idaho on Saturday\, September 17th and Colville\, Washington on Saturday\, September 24th. \nClick here to read Bekah’s story and register!
URL:https://bdsrafoundation.org/event/bike-for-batten-2022/
END:VEVENT
BEGIN:VEVENT
DTSTART;TZID=UTC:20220908T190000
DTEND;TZID=UTC:20220908T200000
DTSTAMP:20260421T164109
CREATED:20220816T193330Z
LAST-MODIFIED:20220816T193441Z
UID:15487-1662663600-1662667200@bdsrafoundation.org
SUMMARY:BDSRA Quarterly Grief Chat
DESCRIPTION:The BDSRA Foundation will host its next Quarterly Grief Chat on Thursday\, September 8th at 7:00 p.m. EST. This is an opportunity for loved ones to gather\, share and support one another. BDSRA understands that each stage of this journey is different\, and we are here for you. \nRegister to attend by visiting this link: https://web.charityengine.net/Default.aspx?tsid=22540 \nJoin the event with the zoom link that will be sent via email following registration.
URL:https://bdsrafoundation.org/event/bdsra-quarterly-grief-chat/
END:VEVENT
BEGIN:VEVENT
DTSTART;TZID=UTC:20220817T180000
DTEND;TZID=UTC:20220817T190000
DTSTAMP:20260421T164109
CREATED:20220728T201912Z
LAST-MODIFIED:20220728T212843Z
UID:15461-1660759200-1660762800@bdsrafoundation.org
SUMMARY:Ask-An-Expert: BDSRA Family Conference Research Presentations Debrief
DESCRIPTION:Join us for Ask-An-Expert: BDSRA Family Conference Research Presentations Debrief on Wednesday\, August 17th at 6 p.m. EST with Batten experts. This session will recap the research presentations at this year’s Family Conference and have a live Q&A. \nRegister by visiting this link: https://web.charityengine.net/Default.aspx?tsid=22383
URL:https://bdsrafoundation.org/event/ask-an-expert-bdsra-family-conference-research-presentations-debrief/
END:VEVENT
BEGIN:VEVENT
DTSTART;TZID=America/New_York:20220621T180000
DTEND;TZID=America/New_York:20220621T190000
DTSTAMP:20260421T164109
CREATED:20220505T170351Z
LAST-MODIFIED:20220505T170631Z
UID:14084-1655834400-1655838000@bdsrafoundation.org
SUMMARY:BDSRA Virtual Summer Bash
DESCRIPTION:Registration is open for BDSRA’s Virtual Summer Bash that will take place on Tuesday\, June 21 at 6 p.m. ET! \nJoin us for an evening filled with activities we hope bring joy to your entire family and help kick start your summer fun! \nRegister by Wednesday\, June 8th to receive your free activity box. Activity boxes are limited to U.S. families at this time. \nClick here to register!
URL:https://bdsrafoundation.org/event/bdsra-virtual-summer-bash/
CATEGORIES:Seasonal Events
END:VEVENT
BEGIN:VEVENT
DTSTART;TZID=America/New_York:20220609T080000
DTEND;TZID=America/New_York:20220609T200000
DTSTAMP:20260421T164109
CREATED:20220330T155631Z
LAST-MODIFIED:20220330T155652Z
UID:13789-1654761600-1654804800@bdsrafoundation.org
SUMMARY:International Batten Awareness Day 2022
DESCRIPTION:Click Here to Register! \n  \nJune 9th is International Batten Disease Awareness Day!   \nOur goal is to honor and support those affected by Batten disease and to raise awareness. \n  \nAbout this event \nJoin us as we celebrate families around the world and raise awareness!  BDSRA is hosting the 2022 International Batten Disease Awareness Day Virtual 5K on June 9th\, 2022. \n  \nWhat exactly IS a Virtual 5K? \nIt is just like any other 5K\, except there is no official race location. The virtual part of this means no traveling and no early start times! It also means you get to choose where\, with whom\, and even how you want to complete the 5K.  This 5K can be done at any time leading up to June 9th. It can even be done in increments\, keep track of your distance until you hit the 5K. \n  \nHow to participate to raise funds and awareness \nThis event is open to individuals of all ages and abilities. Once you register\, either as an individual or as part of a team\, you are set. \n  \nSince this is not a sanctioned event\, there is no penalty if you are unable to complete any or all of the 5K. However\, during International Batten Disease Awareness Day we  will be asking participants to post pictures of themselves on their 5K route. \n  \nThis is completely optional – but since our goal is to bring awareness to Batten disease\, we want to do just that. And by using #battenday2022  and tagging @BDSRA on your social media posts\, we will be able to keep up with the fun. We will highlight posts tagged with @BDSRA in our June Illuminator which will be published June 30\, 2022. \n  \n  \n  \n  \n  \nInternational Batten Awareness Day 2022 – Batten Disease Support & Research Association (bdsra.org)
URL:https://bdsrafoundation.org/event/international-batten-awareness-day-2022/
CATEGORIES:Advocacy Event
ORGANIZER;CN="BDSRA":MAILTO:info@bdsra.org
END:VEVENT
BEGIN:VEVENT
DTSTART;TZID=America/New_York:20220510T190000
DTEND;TZID=America/New_York:20220510T200000
DTSTAMP:20260421T164109
CREATED:20220412T192125Z
LAST-MODIFIED:20220412T192126Z
UID:13945-1652209200-1652212800@bdsrafoundation.org
SUMMARY:BDSRA Quarterly Grief Chat
DESCRIPTION:BDSRA understands that each stage of this journey is different\, and we are here for you. This is an opportunity for loved ones to gather\, share and support one another. Please consider joining us at 7:00pm EST on May 10th\, 2022. \nTo register visit: https://web.charityengine.net/GriefChat5/10/22
URL:https://bdsrafoundation.org/event/may-quarterly-grief-chat/
LOCATION:Zoom
CATEGORIES:Grief Chat
ORGANIZER;CN="BDSRA":MAILTO:info@bdsra.org
END:VEVENT
BEGIN:VEVENT
DTSTART;TZID=America/New_York:20220505T170000
DTEND;TZID=America/New_York:20220505T180000
DTSTAMP:20260421T164109
CREATED:20220422T193033Z
LAST-MODIFIED:20220426T194114Z
UID:13987-1651770000-1651773600@bdsrafoundation.org
SUMMARY:International Ask-An-Expert | Biotechs and NCL clinical research: Exploring the current landscape
DESCRIPTION:Join us for a special edition of BDSRA’s virtual Ask-An-Expert session on Thursday\, May 5th at 5 p.m. ET. \nThis session will feature a panel of Batten experts presenting: Biotechs and NCL clinical research: Exploring the current landscape. \nClick here to register!
URL:https://bdsrafoundation.org/event/international-ask-an-expert-exploring-the-current-landscape/
CATEGORIES:Ask-An-Expert
END:VEVENT
BEGIN:VEVENT
DTSTART;TZID=America/New_York:20220422T080000
DTEND;TZID=America/New_York:20220422T080000
DTSTAMP:20260421T164109
CREATED:20220330T160129Z
LAST-MODIFIED:20220330T160203Z
UID:13792-1650614400-1650614400@bdsrafoundation.org
SUMMARY:Facebook: Equipment Exchange Swap Day
DESCRIPTION:  \nThis is an opportunity for individuals and families to declutter unused equipment and assist other families in the process. \nAll items posted in the group on the 22 will be viewable to the community. We encourage you to search for items you need and post items you would like to see go to a new home. \nTo learn more about our year-round equipment exchange efforts visit: https://bdsrafoundation.org/family-grants/ \nTo Participate you must have a Facebook account- Link Below! \nEarth Day Equipment Exchange Swap Day | Facebook
URL:https://bdsrafoundation.org/event/facebook-equipment-exchange-swap-day/
END:VEVENT
BEGIN:VEVENT
DTSTART;TZID=America/New_York:20220420T180000
DTEND;TZID=America/New_York:20220420T190000
DTSTAMP:20260421T164109
CREATED:20220330T172605Z
LAST-MODIFIED:20220330T172721Z
UID:13797-1650477600-1650481200@bdsrafoundation.org
SUMMARY:Ask-An-Expert: Courageous Parents Network Edition
DESCRIPTION:Join us for Ask-An-Expert: Courageous Parents Network Edition on April 20th at 6:00p ET. \nPlease join BDSRA and Courageous Parents Network as Lord Taylor Blyth; Founder and Executive Director\, CPN presents:\nWhen the Ground Shifts; Changes in Your Child’s Baseline and Anticipatory Grief 
URL:https://bdsrafoundation.org/event/13797/
CATEGORIES:Ask-An-Expert
END:VEVENT
BEGIN:VEVENT
DTSTART;TZID=America/New_York:20220405T190000
DTEND;TZID=America/New_York:20220405T200000
DTSTAMP:20260421T164109
CREATED:20220315T201114Z
LAST-MODIFIED:20220315T201231Z
UID:13751-1649185200-1649188800@bdsrafoundation.org
SUMMARY:Support Group Leader Training
DESCRIPTION:  \nBDSRA wants to take a moment to thank you for your vulnerability and willingness to step into a leadership role. Volunteering to share your heart\, skills\, and experience will undoubtedly have a huge impact on those who walk through this journey with you. \nWe hope this training gives you some extra tools to be the best leader\, friend and support to those in your group. We also would like to acknowledge the hard work and dedication it takes to facilitate a peer support group\, and we want you to know we are here to support each of you. \nTo Register Visit: https://web.charityengine.net/SupportGroupLDR0405
URL:https://bdsrafoundation.org/event/bdsra-support-group-leader-training/
LOCATION:Zoom
CATEGORIES:Peer Support Group Leader Training
ORGANIZER;CN="BDSRA":MAILTO:info@bdsra.org
END:VEVENT
BEGIN:VEVENT
DTSTART;TZID=America/New_York:20220329T170000
DTEND;TZID=America/New_York:20220329T180000
DTSTAMP:20260421T164109
CREATED:20220224T165053Z
LAST-MODIFIED:20220309T162751Z
UID:13717-1648573200-1648576800@bdsrafoundation.org
SUMMARY:Ask-An-Expert Rare & Ready: Clearing Hurdles to Access Rare Disease Therapies
DESCRIPTION:Join us to learn more about the Rare & Ready initiative! \nSome states are developing detrimental strategies to slow or limit patients’ access to newly approved rare disease therapies. Learn about the programmatic obstacles put into place by Medicaid fee-for-service (FFS) and Medicaid managed care organizations (MCOs) and what families can do to clear these hurdles. \nTo Register: Click Here \n  \n 
URL:https://bdsrafoundation.org/event/ask-an-expert-rare-ready-clearing-hurdles-to-access-rare-disease-therapies/
ORGANIZER;CN="BDSRA":MAILTO:info@bdsra.org
END:VEVENT
END:VCALENDAR