BEGIN:VCALENDAR
VERSION:2.0
PRODID:-//Batten Disease Support &amp; Research Association - ECPv6.15.12.2//NONSGML v1.0//EN
CALSCALE:GREGORIAN
METHOD:PUBLISH
X-WR-CALNAME:Batten Disease Support &amp; Research Association
X-ORIGINAL-URL:https://bdsrafoundation.org
X-WR-CALDESC:Events for Batten Disease Support &amp; Research Association
REFRESH-INTERVAL;VALUE=DURATION:PT1H
X-Robots-Tag:noindex
X-PUBLISHED-TTL:PT1H
BEGIN:VTIMEZONE
TZID:America/New_York
BEGIN:DAYLIGHT
TZOFFSETFROM:-0500
TZOFFSETTO:-0400
TZNAME:EDT
DTSTART:20210314T070000
END:DAYLIGHT
BEGIN:STANDARD
TZOFFSETFROM:-0400
TZOFFSETTO:-0500
TZNAME:EST
DTSTART:20211107T060000
END:STANDARD
BEGIN:DAYLIGHT
TZOFFSETFROM:-0500
TZOFFSETTO:-0400
TZNAME:EDT
DTSTART:20220313T070000
END:DAYLIGHT
BEGIN:STANDARD
TZOFFSETFROM:-0400
TZOFFSETTO:-0500
TZNAME:EST
DTSTART:20221106T060000
END:STANDARD
BEGIN:DAYLIGHT
TZOFFSETFROM:-0500
TZOFFSETTO:-0400
TZNAME:EDT
DTSTART:20230312T070000
END:DAYLIGHT
BEGIN:STANDARD
TZOFFSETFROM:-0400
TZOFFSETTO:-0500
TZNAME:EST
DTSTART:20231105T060000
END:STANDARD
END:VTIMEZONE
BEGIN:VEVENT
DTSTART;TZID=America/New_York:20220221T170000
DTEND;TZID=America/New_York:20220221T180000
DTSTAMP:20260421T190417
CREATED:20220113T190922Z
LAST-MODIFIED:20220215T163319Z
UID:13620-1645462800-1645466400@bdsrafoundation.org
SUMMARY:Ask-An-Expert: Research Edition
DESCRIPTION:Registration is now open! Join us for Ask-An-Expert: Research Edition on Monday\, February 21st at 5p EST with Dr. David Pearce. Ask questions and learn about research updates important to our Batten Community during this LIVE Q&A. Register with the link and join from Facebook Live or the webinar link that will be sent via email upon registration. Register with the link provided.
URL:https://bdsrafoundation.org/event/aae222/
LOCATION:Zoom
ORGANIZER;CN="BDSRA":MAILTO:info@bdsra.org
END:VEVENT
BEGIN:VEVENT
DTSTART;TZID=America/New_York:20220118T180000
DTEND;TZID=America/New_York:20220118T190000
DTSTAMP:20260421T190417
CREATED:20220118T203002Z
LAST-MODIFIED:20220118T203002Z
UID:13644-1642528800-1642532400@bdsrafoundation.org
SUMMARY:Ask-An-Expert: Clinical Edition
DESCRIPTION:Ask-An-Expert: Clinical Edition | January 18th | 6p EST\nLearn about clinical updates and ask questions during this LIVE Q&A with Dr. Erika Augustine. Register here: https://web.charityengine.net/ClinicalEdition_Jan2022/
URL:https://bdsrafoundation.org/event/ask-an-expert-clinical-edition/
CATEGORIES:Ask-An-Expert
ORGANIZER;CN="BDSRA":MAILTO:info@bdsra.org
END:VEVENT
END:VCALENDAR